BEGIN:VCALENDAR
VERSION:2.0
PRODID:-//Eventin//Event Calendar//EN
CALSCALE:GREGORIAN
METHOD:PUBLISH
BEGIN:VEVENT
UID:f5d7f6ef5430aae372d6e457dbc94609@ziniuera.lt
SUMMARY:Atitikties BDAR vertinimas (duomenų tvarkymo operacijų auditai)
DESCRIPTION:Atitikties BDAR vertinimas (duomenų tvarkymo operacijų audita
 i)\n\n\n\n\n\n\n\n\n\n\n\nRegistracijos anketa\n\n\n\nNorėdami užsiregist
 ruoti\, prašome užpildyti visus anketos laukelius\, pažymėtus žvaigžd
 ute (*).Jei renginyje ketina dalyvauti daugiau nei 3 asmenys\, dalyvių pav
 ardes prašome įrašyti laukelyje „Papildoma informacija“.  Jei daly
 vaujate kaip fizinis asmuo\, vietoje įmonės pavadinimo nurodykite dalyvau
 jančio asmens vardą ir pavardę.
LOCATION:Online
DTSTAMP:20260423T132944Z
DTSTART:20240418T100000Z
DTEND:20260423T140000Z
END:VEVENT
END:VCALENDAR
