BEGIN:VCALENDAR
VERSION:2.0
PRODID:-//Eventin//Event Calendar//EN
CALSCALE:GREGORIAN
METHOD:PUBLISH
BEGIN:VEVENT
UID:c3f241a5c93fbcf30e1e89254ac0ae2d@ziniuera.lt
SUMMARY:Smurtas ir priekabiavimas: reguliavimo naujovės ir praktiniai aspe
 ktai
DESCRIPTION:Smurtas ir priekabiavimas: reguliavimo naujovės ir praktiniai 
 aspektai\n\n\n\nLektorė - doc. dr. Vida Petrylaitė\, VU Teisės fakulteta
 s\, Privatinės teisės katedra.\n\n\n\nMokymų data: 2025 m. spalio 9 d. M
 okymų vieta: vyks nuotoliniu būdu.Mokymų trukmė: 13.00-16.15 (4 akad. v
 al.)Pertrauka: 14.30-14.45 val.Lietuvos darbo teisėje buvo įgyvendinta es
 minė naujovė - išsamiai sureguliuotas smurto ir priekabiavimo (vadinamoj
 o „mobingo") draudimo institutas\, numatytos konkrečios pareigos darbdav
 iams ir garantijos darbuotojams. Seminare bus išsamiai pristatyta smurto i
 r priekabiavimo prevencijos teisinio reguliavimo naujovės bei praktiniai y
 patumai.Šis seminaras skirtas ne tik darbo teisės specialistams\, darbdav
 ių ar darbuotojų atstovams\, jis gali būti naudojamas ir kaip priemonė 
 darbdavių organizuojamiems mokymams\, darbdaviams vykdant naujas pareigas 
 smurto ir priekabiavimo prevencijos srityje.Mokymų programa:- Teisinė smu
 rto ir priekabiavimo reguliavimo reikšmė\;- Santykis su paplitusia „mob
 ingo" sąvoka\;- Galimi smurto ir priekabiavimo darbe praktiniai aspektai -
  pasireiškimas\, formos\, atpažinimo ir vertinimo galimybės\;- Darbdavi
 ų ir darbuotojų teisės ir pareigos\, teisinė atsakomybė.Dalyvio mokest
 is - 110 Eur (PVM netaikomas). Jei iš įstaigos dalyvauja daugiau nei vien
 as asmuo\, mokestis kiekvienam dalyviui – po 95 Eur. Į kainą įskaičiu
 ota metodinės medžiagos komplektas (el. formatu)\, el. dalyvio pažymėji
 mas. Jei pageidaujate dalyvauti\, prašytume užpildyti žemiau esančią R
 EGISTRACIJOS ANKETĄ. Užsiregistruoti į mokymus galite ir tel. (0 5) 205 
 1492\, +370 699 98531\, +370 699 98350.                  
                              .
LOCATION:Online
DTSTAMP:20260423T133353Z
DTSTART:20251009T130000Z
DTEND:20260423T161500Z
END:VEVENT
END:VCALENDAR
