BEGIN:VCALENDAR
VERSION:2.0
PRODID:-//Eventin//Event Calendar//EN
CALSCALE:GREGORIAN
METHOD:PUBLISH
BEGIN:VEVENT
UID:accac9da9f0c82275a93584495ef4e5e@ziniuera.lt
SUMMARY:Administracinių nusižengimų bylų teisenos naujovės bei aktuali
  teismų praktika
DESCRIPTION:
LOCATION:Online
DTSTAMP:20260423T133041Z
DTSTART:20240927T090000Z
DTEND:20260423T121500Z
END:VEVENT
END:VCALENDAR
