BEGIN:VCALENDAR
VERSION:2.0
PRODID:-//Eventin//Event Calendar//EN
CALSCALE:GREGORIAN
METHOD:PUBLISH
BEGIN:VEVENT
UID:30a9db3ef8345ebc7484013ea85a535f@ziniuera.lt
SUMMARY:Skaitmeninės kilmės dokumentų valdymas: reikalavimai ir 2025 m. 
 naujovės
DESCRIPTION:Skaitmeninės kilmės dokumentų valdymas: reikalavimai ir 2025
  m. naujovės\n\n\n\nMokymų data: 2025 m. liepos 24 d.\n\n\n\nMokymų laik
 as ir trukmė: 10.00-14.30 val. (5 akad. val.)\n\n\n\nPertrauka: 12.00-12.4
 5 val.\n\n\n\nMokymų formatas: vyks nuotoliniu būdu.\n\n\n\nMokymų lekto
 rė - dr. Daiva Lukšaitė\,  socialinių mokslų srities komunikacijos ir
  informacijos mokslo krypties daktarė. Yra publikavusi ne vieną šios sri
 ties straipsnį\, rengusi metodinius dokumentus. Nuo 2001 m. veda seminarus
 \, teikia ekspertines paslaugas.\n\n\n\nPrograma:\n\n\n\n1. Lietuvos Respub
 likos dokumentų ir archyvų įstatymo bei eIDAS reglamento reikalavimai.\n
 \n\n\n2. Skaitmeninės kilmės dokumentų (įrašų\, elektroninių\, vaizd
 o ir (ar) garso dokumentų) valdymo organizavimas.\n\n\n\n3. Elektroninių 
 dokumentų formatų ir jų naudojimo ypatumai.\n\n\n\n4. Įrašų\, elektro
 ninių dokumentų rengimo ir pasirašymo reikalavimai.\n\n\n\n5. Dokumentų
  išrašų ar nuorašų rengimas. \n\n\n\n6. Dokumentų tvarkymo\, apskaito
 s\, saugojimo ir perdavimo toliau saugoti esminiai reikalavimai. \n\n\n\nD
 alyvio mokestis – 110 Eur (PVM netaikomas).  Į kainą įskaičiuota me
 todinės medžiagos komplektas (el. formatu)\, el. dalyvio pažymėjimas. J
 ei pageidaujate dalyvauti\, prašytume užpildyti žemiau esančią REGISTR
 ACIJOS ANKETĄ. Užsiregistruoti į mokymus galite ir tel. (0 5) 205 1492\,
  +370 699 98531\, +370 699 98350.
LOCATION:Online
DTSTAMP:20260423T133102Z
DTSTART:20250724T100000Z
DTEND:20260423T143000Z
END:VEVENT
END:VCALENDAR
