BEGIN:VCALENDAR
VERSION:2.0
PRODID:-//Eventin//Event Calendar//EN
CALSCALE:GREGORIAN
METHOD:PUBLISH
BEGIN:VEVENT
UID:c11cf43162f8f639b6056e36ab18be8e@ziniuera.lt
SUMMARY:Savivaldybių vaidmuo užtikrinant efektyvią\, kokybišką pastat
 ų techninę priežiūrą ir daugiabučių namų valdytojų kontrolę
DESCRIPTION:
LOCATION:Online
DTSTAMP:20260423T133632Z
DTSTART:20250828T100000Z
DTEND:20260423T143000Z
END:VEVENT
END:VCALENDAR
